BEGIN:VCALENDAR
VERSION:2.0
PRODID:-//Contratero//ES
CALSCALE:GREGORIAN
METHOD:PUBLISH
BEGIN:VEVENT
UID:CON 39/ 2024 NE EX@contratero.es
DTSTAMP:20260422T214939Z
DTSTART:20250218T235959
DTEND:20250219T005959
SUMMARY:Cierre: Contratación del servicio y mantenimiento del prog
DESCRIPTION:Contratación del servicio y mantenimiento del programa OMIGEST para la Oficina de Consumo del Ayuntamiento de Aranjuez.\\n\\nOrganismo: Junta de Gobierno del Ayuntamiento de Aranjuez\\n\\nVer en Contratero: https://contratero.es/contracts/CON 39/ 2024 NE EX
URL:https://contratero.es/contracts/CON 39/ 2024 NE EX
STATUS:CONFIRMED
BEGIN:VALARM
TRIGGER:-P1D
ACTION:DISPLAY
DESCRIPTION:Recordatorio: Contratación del servicio y ma
END:VALARM
END:VEVENT
END:VCALENDAR